BEGIN:VCALENDAR
VERSION:2.0
PRODID:-//Vital Links - ECPv6.15.17.1//NONSGML v1.0//EN
CALSCALE:GREGORIAN
METHOD:PUBLISH
X-ORIGINAL-URL:https://vitallinks.com
X-WR-CALDESC:Events for Vital Links
REFRESH-INTERVAL;VALUE=DURATION:PT1H
X-Robots-Tag:noindex
X-PUBLISHED-TTL:PT1H
BEGIN:VTIMEZONE
TZID:America/New_York
BEGIN:DAYLIGHT
TZOFFSETFROM:-0500
TZOFFSETTO:-0400
TZNAME:EDT
DTSTART:20180311T070000
END:DAYLIGHT
BEGIN:STANDARD
TZOFFSETFROM:-0400
TZOFFSETTO:-0500
TZNAME:EST
DTSTART:20181104T060000
END:STANDARD
BEGIN:DAYLIGHT
TZOFFSETFROM:-0500
TZOFFSETTO:-0400
TZNAME:EDT
DTSTART:20190310T070000
END:DAYLIGHT
BEGIN:STANDARD
TZOFFSETFROM:-0400
TZOFFSETTO:-0500
TZNAME:EST
DTSTART:20191103T060000
END:STANDARD
BEGIN:DAYLIGHT
TZOFFSETFROM:-0500
TZOFFSETTO:-0400
TZNAME:EDT
DTSTART:20200308T070000
END:DAYLIGHT
BEGIN:STANDARD
TZOFFSETFROM:-0400
TZOFFSETTO:-0500
TZNAME:EST
DTSTART:20201101T060000
END:STANDARD
END:VTIMEZONE
BEGIN:VEVENT
DTSTART;VALUE=DATE:20191211
DTEND;VALUE=DATE:20191213
DTSTAMP:20260421T230223
CREATED:20190626T155526Z
LAST-MODIFIED:20190905T193646Z
UID:10000298-1576022400-1576195199@vitallinks.com
SUMMARY:Building Blocks for Sensory Integration - Brooklyn\, NY
DESCRIPTION:Early Bird Offer!\nEnroll by November 11\, 2019\nUSD $465 \nGroup Discounts Available!\nGroup of 4 or more – USD $450 per registrant \nTherapy Ball Trio Included with Course \nThis two-day\, experiential course provides therapists with an in-depth understanding of the developmental and neurophysiological links between sensory integration and the basic primary movement patterns that provide the foundation (or building blocks) for sensory modulation and integration. Beginning with support of the primitive reflexes\, we will explore the development of posture and its relationship to gross and fine motor skills along with visual and auditory function. Hands-on demonstrations\, movement labs\, and video examples will highlight treatment strategies that can be implemented with and without therapy equipment\, making them appropriate for all clinical settings. \nRegistration includes the Therapy Ball Trio.\n\n		\n		Register Here! \n		\n\nThis course is sponsored by TheraMoves Services LLC and all registrations are managed through their organization. You may register by completing and submitting the Enrollment Form to TheraMoves. Vital Links does not manage registrations for this course. To contact TheraMoves directly Click Here.\n\n		\nLocation\nAz Yashir Torah Center\n1301 East 18th Street\nBrooklyn\, NY 11230 \nSchedule\nFull Agenda\nDay 1: Wednesday\, December 11\, 2019\, 8:00am – 4:00pm Eastern Standard Time\nDay 2: Thursday\, December 12\, 2019\, 8:00am – 4:00pm EST\nCheck-in begins at 7:45am EST on day one & day two. \nLevel\nIntroductory \nInstructors\nSheila M. Frick; OTR/L\nTracy Bjorling; M.S.\, OTR/L \nCourse Objectives\nUpon completion of this course\, participants will be able to: \n\nDescribe the link between reflex integration\, postural development\, sensory motor integration\, and behavioral challenges.\nEvaluate primitive and postural reflex development\, and identify its impact on daily function.\nDesign simple yet powerful strategies for integration across multiple environments.\n\n\n		\n		Course Materials \n		\nEach participant is recommended to bring a yoga mat/towel and gym ball (appropriately sized to allow you to sit at 90/90)\, if available. Registration includes one Gertie Ball\, one Power Up Ball and one Pinky Ball\, which will be provided at the course. The items will be utilized during workshop demonstrations and labs.\n\n		\n\n		\n		Register Here! \n		\n\nThis course is sponsored by TheraMoves Services LLC and all registrations are managed through their organization. You may register by completing and submitting the Enrollment Form to TheraMoves. Vital Links does not manage registrations for this course. To contact TheraMoves directly Click Here.\n\n		\n  \nFor additional information\, call (917) 750-0645 (TheraMoves)\n 
URL:https://vitallinks.com/event/bblk2019-12-11-nyc2d-13sf-building-blocks-brooklyn-new-york/
LOCATION:Az Yashir Torah Center – Brooklyn\, 1301 East 18th Street\, Brooklyn\, NY\, 11230\, United States
CATEGORIES:Building Blocks,In-Person Courses
END:VEVENT
END:VCALENDAR