BEGIN:VCALENDAR
VERSION:2.0
PRODID:-//Vital Links - ECPv6.15.17.1//NONSGML v1.0//EN
CALSCALE:GREGORIAN
METHOD:PUBLISH
X-ORIGINAL-URL:https://vitallinks.com
X-WR-CALDESC:Events for Vital Links
REFRESH-INTERVAL;VALUE=DURATION:PT1H
X-Robots-Tag:noindex
X-PUBLISHED-TTL:PT1H
BEGIN:VTIMEZONE
TZID:America/Chicago
BEGIN:DAYLIGHT
TZOFFSETFROM:-0600
TZOFFSETTO:-0500
TZNAME:CDT
DTSTART:20190310T080000
END:DAYLIGHT
BEGIN:STANDARD
TZOFFSETFROM:-0500
TZOFFSETTO:-0600
TZNAME:CST
DTSTART:20191103T070000
END:STANDARD
BEGIN:DAYLIGHT
TZOFFSETFROM:-0600
TZOFFSETTO:-0500
TZNAME:CDT
DTSTART:20200308T080000
END:DAYLIGHT
BEGIN:STANDARD
TZOFFSETFROM:-0500
TZOFFSETTO:-0600
TZNAME:CST
DTSTART:20201101T070000
END:STANDARD
BEGIN:DAYLIGHT
TZOFFSETFROM:-0600
TZOFFSETTO:-0500
TZNAME:CDT
DTSTART:20210314T080000
END:DAYLIGHT
BEGIN:STANDARD
TZOFFSETFROM:-0500
TZOFFSETTO:-0600
TZNAME:CST
DTSTART:20211107T070000
END:STANDARD
END:VTIMEZONE
BEGIN:VEVENT
DTSTART;VALUE=DATE:20200425
DTEND;VALUE=DATE:20200427
DTSTAMP:20260421T165816
CREATED:20191031T223808Z
LAST-MODIFIED:20200318T183857Z
UID:10000306-1587772800-1587945599@vitallinks.com
SUMMARY:Building Blocks for Sensory Integration - Minneapolis
DESCRIPTION:This course has been cancelled.  \nPlease stay tuned for future course offering dates.  \nIncluded with course \nThis two-day\, experiential course provides therapists with an in-depth understanding of the developmental and neurophysiological links between sensory integration and the basic primary movement patterns that provide the foundation (or building blocks) for sensory modulation and integration. Beginning with support of the primitive reflexes\, we will explore the development of posture and its relationship to gross and fine motor skills along with visual and auditory function. Hands-on demonstrations\, movement labs\, and video examples will highlight treatment strategies that can be implemented with and without therapy equipment\, making them appropriate for all clinical settings. \nRegistration includes a Gertie Ball\, a Power Up Ball and a Pinky Ball. \nTake an additional discount of $25 per participant for groups of 3 or more individuals enrolling simultaneously under the same order. Discount applied at checkout. \nScroll down to Register\nLocation\nAllina Health – Petting Hall\n2925 Chicago Avenue South\nMinneapolis\, MN 55407 \nSchedule\nFull Agenda\nDay 1: Saturday\, April 25\, 2020\, 8:30am – 4:30pm CDT\nDay 2: Sunday\, April 26\, 2020\, 8:30am – 4:30pm CDT\nCheck-in begins at 8:15am CDT on day one & day two. \nLevel\nIntroductory \nInstructor\nSheila M. Frick; OTR/L \nCourse Objectives\nUpon completion of this course\, participants will be able to: \n\nDescribe the link between reflex integration\, postural development\, sensory modulation\, and behavioral challenges.\nEvaluate primitive and postural reflex development\, and identify its impact on daily function.\nDesign simple yet powerful strategies for integration across multiple environments.\n\n\nScroll down to “Tickets” Register.\n\n		\n		Continuing Ed \n		\n \nVital Links is an AOTA approved provider of continuing education. Participants are eligible to receive 13.0 contact hours or 1.3 AOTA CEUs for this course. \nAOTA Classification Code: Client Factors\, Performance Skills\, & Intervention\nAOTA Target Audience: Occupational Therapy\nAOTA Completion Requirements: Full Attendance & Participation \nThe assignment of AOTA CEUs does not imply endorsement of specific course content\, products\, or clinical procedures by AOTA. \n\nASHA: This course is offered for 1.3 ASHA CEUs (Introductory Level & Professional Area)\n\n		\n\n		\n		Course Materials \n		\nEach participant is asked to bring a yoga mat and gym ball (sized to allow you to sit at 90/90). Registration includes one Gertie Ball\, one Power Up Ball and one Pinky Ball\, which will be provided at the course. The items will be utilized during workshop demonstrations and labs. Please Contact Us if you have any questions.\n\n		\n\n		\n		Accessibility \n		\nIn compliance with the Americans with Disabilities Act\, Vital Links will make every effort to honor requests for reasonable accommodations made by individuals with disabilities\, including but not limited to written transcripts\, multiple viewing attempts\, and increased amount of time to complete training activities. It is a priority for Vital Links to ensure participation in all courses and activities for all individuals. Vital Links is committed to ensuring non-discrimination and to resolving any complaints related to a disability in a prompt and equitable manner.\n\n		\n\n		\n		Cancellation \n		\nCancellations requesting a refund must be in writing and received by Vital Links two weeks prior to the course; refunds will not be granted after that date. Approved refunds will be issued after the final course date (minus $50 processing fee). Cancellation requests may transfer full credit towards another Vital Links course if notification is received in writing at least 7 business days prior to the start date. \nRegistrant bears sole responsibility for transportation to course. Participants purchasing non-refund-able airfare tickets are encouraged to inquire as to course availability before final purchase. Weather or transportation difficulties are not the responsibility of Vital Links\, and failure of a chosen means of transportation is not grounds for registration fee refund when course is held. \nVital Links reserves the right to cancel any course with due cause and refund in full.\n\n		\n\n		\n		Purchase Orders \n		\nIf you choose to register via Purchase Order\, please attach a scanned copy of your completed and signed form to your “shopping cart” during checkout. Otherwise\, you may fax the form to: 1-866-636-9720. Note: please add an administrative fee of $15.00 to each order submitted via Purchase Order. Registrations submitted via Purchase Order Payment will not be processed until the Purchase Order form is received by Vital Links.\n\n		\n  \nNeed to contact us by phone? call: 608-270-5424\nPrintable Brochure
URL:https://vitallinks.com/event/bblk2020-04-25-msp2d-13sf-building-blocks-minneapolis/
LOCATION:Allina Health – Petting Hall\, 2925 Chicago Avenue South\, Minneapolis\, MN\, 55407\, United States
CATEGORIES:Building Blocks,In-Person Courses
END:VEVENT
END:VCALENDAR