BEGIN:VCALENDAR
VERSION:2.0
PRODID:-//Vital Links - ECPv6.15.17.1//NONSGML v1.0//EN
CALSCALE:GREGORIAN
METHOD:PUBLISH
X-ORIGINAL-URL:https://vitallinks.com
X-WR-CALDESC:Events for Vital Links
REFRESH-INTERVAL;VALUE=DURATION:PT1H
X-Robots-Tag:noindex
X-PUBLISHED-TTL:PT1H
BEGIN:VTIMEZONE
TZID:America/Chicago
BEGIN:DAYLIGHT
TZOFFSETFROM:-0600
TZOFFSETTO:-0500
TZNAME:CDT
DTSTART:20250309T080000
END:DAYLIGHT
BEGIN:STANDARD
TZOFFSETFROM:-0500
TZOFFSETTO:-0600
TZNAME:CST
DTSTART:20251102T070000
END:STANDARD
BEGIN:DAYLIGHT
TZOFFSETFROM:-0600
TZOFFSETTO:-0500
TZNAME:CDT
DTSTART:20260308T080000
END:DAYLIGHT
BEGIN:STANDARD
TZOFFSETFROM:-0500
TZOFFSETTO:-0600
TZNAME:CST
DTSTART:20261101T070000
END:STANDARD
BEGIN:DAYLIGHT
TZOFFSETFROM:-0600
TZOFFSETTO:-0500
TZNAME:CDT
DTSTART:20270314T080000
END:DAYLIGHT
BEGIN:STANDARD
TZOFFSETFROM:-0500
TZOFFSETTO:-0600
TZNAME:CST
DTSTART:20271107T070000
END:STANDARD
END:VTIMEZONE
BEGIN:VEVENT
DTSTART;VALUE=DATE:20260327
DTEND;VALUE=DATE:20260404
DTSTAMP:20260425T213725
CREATED:20250816T135453Z
LAST-MODIFIED:20260401T185054Z
UID:10000234-1774569600-1775260799@vitallinks.com
SUMMARY:Core Connections - Exploring the Core's Developmental Roots - Course Recording
DESCRIPTION:Watch this course preview to gain insight into the early foundations for core development that later support and refine arousal regulation\, motor planning\, perceptual-motor skills\, organized behavior\, and engagement in the world around us. \nCourse Recording Now Available!  \nCore Concepts in Action Book – vitalsounds.com \nThis recorded course will provide therapists with a clear description of musculoskeletal make-up of the “core” and will cover the research-based neurophysiological rationale for evaluating core development and function in individuals with sensory processing difficulties. Core function will be explored from its developmental roots in the unfolding of the primary movement patterns (innate reflex development). Two key patterns (Moro and Tonic Labyrinthine) and their connections to core development and self-regulation will be discussed. A specific play-based observation tool that identifies core movement challenges and assists in prioritizing treatment strategies will be presented and explored through movement labs. Along with assessment\, a variety of hands-on treatment strategies will be demonstrated through interactive\, online labs. Video case presentation will be used to show practical clinical applications. \nReceive the Gertie Ball and Power Up Ball from Vital Sounds for the special rate of 15% off when you register for the Core Connections course (S&H fees apply^). Vital Sounds coupon will be provided in course registration receipt. \nTake an additional discount of $15 per participant for groups of 3 or more individuals enrolling simultaneously under the same web-order. \nScroll down to Register\nLocation\nOnline with Recording Option* \nSchedule\n\n        \n            Full Agenda\n        \n    \nPurchase the Recording: Purchase this course anytime before April 3 and receive recording access from March 27-April 17. Participants who watch the recording will still be eligible for CEU’s. You may view the recording at your leisure during the viewing window – it does not need to be completed all at once. Access to the course recording\, test\, course materials\, and CEU eligibility will not be available after April 17. \nLevel\nIntroductory \nInstructor\nSheila M. Frick; OTR/L \nCourse Objectives\nUpon completion of this course\, participants will be able to: \n\nList the anatomical components of the inner and outer core.\nIdentify the significance of vestibular visual and auditory input for core development.\nSelect three strategies that activate inner core for the purpose of stability and self-regulation.\nRecognize the importance of complete expression and integration of the Moro and Tonic Labyrinthine reflex for core development and self-regulation.\nIdentify the importance of respiratory patterns and their relationship to core activation for the purpose of engaging in meaningful occupations.\n\n\nScroll down to “Tickets” to register\n\n		\n		Continuing Ed \n		\n \nVital Links is an AOTA Approved Provider of professional development. PD activity approval ID #13701. This Distance Learning Independent self-study course is offered at 0.7 CEU’s Introductory Level\, Occupational Service Delivery\, Foundational Knowledge. AOTA does not endorse specific course content\, products or clinical procedures. \n\n		\n\n		\n		Course Materials \n		\nEach participant is recommended to have a yoga mat/towel and gym ball (sized to allow you to sit at 90/90) available during the course to utilize during online labs. The instructor will demonstrate the use of the Gertie Ball and the Power Up Ball throughout the course. Though they are not required to attend the course; access to these therapy balls can provide participants a hands-on experience during online demonstrations. Receive the Gertie Ball and Power Up Ball from Vital Sounds for the special rate of 15% off when you register for the Core Connections course (S&H fees apply^). Vital Sounds coupon will be provided in course registration receipt. \nRegistrants will receive an email within a week of the course containing instructions on how to access the webinar and printable course materials\, such as\, the PowerPoint handouts. \n\nThe email address entered under “Attendee #” during online registration will be the address that receives the instructions email.\nPlease check your inbox and junk folder for the following email Subject: “Course Instructions for your Vital Links Online Course\, Core Connections.”\n\nPlease Contact Us if you have any questions.\n\n		\n\n		\n		Device Compatibility \n		\nThere are basic device requirements for Vital Links webinars on Zoom. While you can join the session via a computer\, tablet\, or mobile device\, viewers may have an enhanced experience through the use of a computer. \nContact Us if you have questions regarding compatibility.\n\n		\n\n		\n		Recording Details \n		\nPurchase this course anytime before April 3 and receive recording access from March 27-April 17. Participants who watch the recording will still be eligible for CEU’s. You may view the recording at your leisure during the viewing window – it does not need to be completed all at once. Access to the course recording\, test\, course materials\, and CEU eligibility will not be available after April 17. \nHow do I access the recording?\nYou will receive an email to access the course recording and printable handouts. Your device must have access to an internet connection and the capability to stream YouTube videos. \nWill I receive a certificate?\nTo receive credit for viewing the course recording\, viewers are required to complete their test with a passing score (70% or higher) no later than April 18 CT. Viewers can expect to receive a Certificate of Completion via email. \n\n		\n\n		\n		Accessibility \n		\nIn compliance with the Americans with Disabilities Act\, Vital Links will make every effort to honor requests for reasonable accommodations made by individuals with disabilities\, including but not limited to written transcripts\, multiple viewing attempts\, and increased amount of time to complete training activities. It is a priority for Vital Links to ensure participation in all courses and activities for all individuals. Vital Links is committed to ensuring non-discrimination and to resolving any complaints related to a disability in a prompt and equitable manner.\n\n		\n\n		\n		Cancellation \n		\nCancellations requesting a refund must be in writing and received by Vital Links two weeks prior to the course; refunds will not be granted after that date. Approved refunds will be issued after the final course date (minus $50 processing fee). Cancellation requests may transfer full credit towards another Vital Links course if notification is received in writing at least 7 business days prior to the start date. \nVital Links is not responsible for device compatibility issues\, and it is each registrant’s responsibility to ensure his/her device is compatible with the noted platform and services. Any difficulty with compatibility is not grounds for a refund after the live webinar session begins. \nVital Links reserves the right to cancel any course with due cause and refund in full.\n\n		\n\n		\n		Purchase Orders \n		\nIf you choose to register via Purchase Order\, please attach a scanned copy of your completed and signed form to your “shopping cart” during checkout. Otherwise\, you may fax the form to: 1-866-636-9720. Note: please add an administrative fee of $15.00 to each order submitted via Purchase Order. Registrations submitted via Purchase Order Payment will not be processed until the Purchase Order form is received by Vital Links.\n\n		\n\n		\n		National & International Shipping \n		\nShipping and international shipping fees applies for therapy ball bundle shipped within and outside of the United States. Rates are as follows: \nUnited States – $8.95 (Therapy Ball Bundle) \nCanada – $35.43 \nHong Kong – $75.43 \nAll other international locations – $100.43 \nInternational Customs requires international recipients to pay applicable duties and taxes on each shipment entering their country. A brokerage fee is also charged by the courier to process and present the requisite customs paperwork to International Customs on the importer’s behalf. Customs fees are not included in the shipping fee paid at time of purchase. Please\, be aware that UPS will request payment of these charges at the time of delivery. You have the ability to call UPS ahead of time (1-800-742-5877) to pay these charges\, eliminating the need for payment on delivery. \n\n		\n  \nNeed to contact us by phone? call: 608-270-5424\n\n        \n            Printable Brochure
URL:https://vitallinks.com/event/core2026-03-27-web1d-07sf/
CATEGORIES:Core Connections,Live Webinars
END:VEVENT
END:VCALENDAR