BEGIN:VCALENDAR
VERSION:2.0
PRODID:-//Vital Links - ECPv6.15.17.1//NONSGML v1.0//EN
CALSCALE:GREGORIAN
METHOD:PUBLISH
X-WR-CALNAME:Vital Links
X-ORIGINAL-URL:https://vitallinks.com
X-WR-CALDESC:Events for Vital Links
REFRESH-INTERVAL;VALUE=DURATION:PT1H
X-Robots-Tag:noindex
X-PUBLISHED-TTL:PT1H
BEGIN:VTIMEZONE
TZID:America/Chicago
BEGIN:DAYLIGHT
TZOFFSETFROM:-0600
TZOFFSETTO:-0500
TZNAME:CDT
DTSTART:20220313T080000
END:DAYLIGHT
BEGIN:STANDARD
TZOFFSETFROM:-0500
TZOFFSETTO:-0600
TZNAME:CST
DTSTART:20221106T070000
END:STANDARD
BEGIN:DAYLIGHT
TZOFFSETFROM:-0600
TZOFFSETTO:-0500
TZNAME:CDT
DTSTART:20230312T080000
END:DAYLIGHT
BEGIN:STANDARD
TZOFFSETFROM:-0500
TZOFFSETTO:-0600
TZNAME:CST
DTSTART:20231105T070000
END:STANDARD
BEGIN:DAYLIGHT
TZOFFSETFROM:-0600
TZOFFSETTO:-0500
TZNAME:CDT
DTSTART:20240310T080000
END:DAYLIGHT
BEGIN:STANDARD
TZOFFSETFROM:-0500
TZOFFSETTO:-0600
TZNAME:CST
DTSTART:20241103T070000
END:STANDARD
END:VTIMEZONE
BEGIN:VEVENT
DTSTART;VALUE=DATE:20231012
DTEND;VALUE=DATE:20231014
DTSTAMP:20260421T090354
CREATED:20230727T150920Z
LAST-MODIFIED:20230727T150920Z
UID:10000389-1697068800-1697241599@vitallinks.com
SUMMARY:Power Up for Participation: Ready\, Steady\, Go! – Live International Course
DESCRIPTION:Live International Course\n\nIncreased participation and meaningful engagement in daily life are vital treatment outcomes within occupational therapy and allied health professions. However\, from a developmental\, body-based\, sensory integrative approach\, prior to participation it is essential to organize the body for regulated engagement across all environments and tasks. \nThis two-day course will introduce participants to the clinical reasoning template of “Ready\, Steady\, Go” which blends theory\, assessment\, and treatment activities into one approach. Ready\, Steady\, Go serves as a guiding template to structure treatment from the basis of regulating one’s physiological arousal and organizing movement within time and space as a precursor to participation in all aspects of life. \nLecture content will convey the importance of breath\, emotional motor system\, embodied self-awareness\, and state regulation (“Ready”); working from the ground up to establish stable and dynamic postural control in conjunction with organization of the eyes and ears (“Steady”); and developing coordinated movement within three-dimensional space and as key foundations for accessing higher-level skills of self-monitoring and sustained attention (“Go”). \nTheoretical lectures will be supplemented by video examples and interactive treatment labs where participants will be introduced to assessment and treatment activities that correspond with each of the three components of the approach. This course will be appropriate for occupational therapists and other health professionals working in private practice\, school\, or home environments as discussions will include how to adapt principles for individuals or groups/classrooms. \nWho Should Attend:\nOccupational therapists\, speech/language pathologists\, physical therapists\, psychologists\, and other interested allied health providers. \n\n		\n		Register Here! \n		\nThis course is sponsored by an outside organization and all registrations are managed through their organization. You may register by completing their online course Registration Form. Vital Links does not manage registrations for this course. \n\n		\nLocation\nPenrith RSL – 8 Tindale Street\, Penrith – Australia \nSchedule\nDay 1: Thursday\, October 12\, 2023\, 8:00am – 5:00pm GMT + 10\nDay 2: Friday\, October 13\, 2023\, 8:00am – 5:00pm GMT + 10 \nLevel\nIntroductory \nInstructors\nSheila M. Frick; OTR/L \nCourse Objectives\nUpon completion of this course\, participants will be able to: \n\nIdentify when an individual is not in a state of readiness to participate in the activity at hand.\nSelect at least three treatment activities appropriate to support steadiness.\nRecognize how “Ready\,” Steady\,” and “Go” activities may shift depending upon the individual in the moment and intended functional participation outcome.\nDiscuss and adapt “Ready\, Steady\, Go” principles to suit the needs of a classroom or individual family.\n\n\n\n\n\n\nPrintable Brochure
URL:https://vitallinks.com/event/prsg2023-10-12-syd2d-12-5sf/
LOCATION:Australia
CATEGORIES:In-Person Courses,International Courses
END:VEVENT
BEGIN:VEVENT
DTSTART;VALUE=DATE:20231016
DTEND;VALUE=DATE:20231018
DTSTAMP:20260421T090354
CREATED:20230727T114615Z
LAST-MODIFIED:20230727T151610Z
UID:10000388-1697414400-1697587199@vitallinks.com
SUMMARY:Listening with the Whole Body – Live International Course
DESCRIPTION:Live International Course\n\nIn this two-day\, initial training course\, participants will learn to use Therapeutic Listening® modulated audio selections to create individualized\, home-based programs for clients. You will also learn how to implement Therapeutic Listening strategies in conjunction with postural\, respiratory and sensory activities. This course will take participants from client assessment through treatment with a strong emphasis on practical application using multiple case-studies. Case-study video presentations will be used to illustrate points and show changes in individuals with listening and other sensory processing difficulties. Practitioners who have a background in sensory integration\, including therapists in schools\, hospitals and private clinics will find this webinar especially meaningful. \nWho Should Attend:\nOccupational therapists\, speech/language pathologists\, physical therapists\, psychologists\, physicians\, educators\, social workers\, mental health therapists\, and human services professionals. Graduating students or graduate students of the aforementioned fields are also welcome. \nCertification:\nParticipants will receive a Certification in Therapeutic Listening (Introductory). This course provides participants with the necessary background information to immediately begin incorporating Therapeutic Listening into their programs. The course does not include the cost of the Therapeutic Listening modulated music selections.  \n\n		\n		Register Here! \n		\nThis course is sponsored by an outside organization and all registrations are managed through their organization. You may register by completing their online course Registration Form. Vital Links does not manage registrations for this course. \n\n		\nLocation\nPenrith RSL – 8 Tindale Street\, Penrith – Australia \nSchedule\nDay 1: Monday\, October 16\, 2023\, 8:00am – 5:00pm GMT + 10\nDay 2: Tuesday\, October 17\, 2023\, 8:00am – 5:00pm GMT + 10 \nLevel\nIntroductory \nInstructors\nSheila M. Frick; OTR/L \nCourse Objectives\nUpon completion of this course\, participants will be able to: \n\nIdentify the relationship between listening and sensory integration.\nRecognize individuals with sensory processing and listening difficulties who may respond well to Therapeutic Listening.\nSelect Therapeutic Listening programs that are adapted to meet specific needs of individual clients.\nRecognize the role of postural\, respiratory\, and sensory strategies that are part of the Therapeutic Listening program.\n\n  \nPrintable Brochure
URL:https://vitallinks.com/event/lwwb2023-10-16-int2d-12-5sf/
LOCATION:Australia
CATEGORIES:In-Person Courses,International Courses
END:VEVENT
BEGIN:VEVENT
DTSTART;VALUE=DATE:20231021
DTEND;VALUE=DATE:20231023
DTSTAMP:20260421T090354
CREATED:20230727T121007Z
LAST-MODIFIED:20230727T151742Z
UID:10000387-1697846400-1698019199@vitallinks.com
SUMMARY:The Coalescence of Sensory and Motor Based Interventions: How to Determine and Design the Most Efficient and Effective Treatment Programs for Your Clients – Live International Course
DESCRIPTION:Live International Course\n\nIn this two-day training course\, Sheila Frick\, OTR/L and Kelly Reynolds\, PT\, combine their wealth of knowledge\, vast experience\, and passion for children in this two-day clinical dialogue. The days will focus intensively on theoretical knowledge\, clinical reasoning\, and practical application through the dual lenses of sensory processing and motor learning (Bobath Concept). Practitioners should come prepared to move and converse with expert clinicians Sheila and Kelly. \n\n\n\n\nActive participation is a must! Treatment demonstrations will occur each day to sharpen clinical reasoning using integrated theoretical frameworks and interventions\, with the end goal of determining and designing efficient\, effective treatment programs for clients. \n\n		\n		Register Here! \n		\nThis course is sponsored by an outside organization and all registrations are managed through their organization. You may register by emailing MINDTOMINDCOURSES@GMAIL.COM – Vital Links does not manage registrations for this course. \n\n		\n\n\n\n\nLocation\nThe Sensory Gym – 4c/28 Laurence Street – Hobartville\, NSW 2753 \nSchedule\nDay 1: Saturday\, October 21\, 2023\nDay 2: Sunday\, October 22\, 2023 \nLevel\nIntroductory \nInstructors\nSheila M. Frick; OTR/L\nKelly Reynolds; PT \n  \nPrintable Brochure
URL:https://vitallinks.com/event/csmi2023-10-21-syd2d-12-5sf/
LOCATION:Australia
CATEGORIES:In-Person Courses,International Courses
END:VEVENT
END:VCALENDAR