BEGIN:VCALENDAR
VERSION:2.0
PRODID:-//Vital Links - ECPv6.15.17.1//NONSGML v1.0//EN
CALSCALE:GREGORIAN
METHOD:PUBLISH
X-ORIGINAL-URL:https://vitallinks.com
X-WR-CALDESC:Events for Vital Links
REFRESH-INTERVAL;VALUE=DURATION:PT1H
X-Robots-Tag:noindex
X-PUBLISHED-TTL:PT1H
BEGIN:VTIMEZONE
TZID:America/Chicago
BEGIN:DAYLIGHT
TZOFFSETFROM:-0600
TZOFFSETTO:-0500
TZNAME:CDT
DTSTART:20210314T080000
END:DAYLIGHT
BEGIN:STANDARD
TZOFFSETFROM:-0500
TZOFFSETTO:-0600
TZNAME:CST
DTSTART:20211107T070000
END:STANDARD
BEGIN:DAYLIGHT
TZOFFSETFROM:-0600
TZOFFSETTO:-0500
TZNAME:CDT
DTSTART:20220313T080000
END:DAYLIGHT
BEGIN:STANDARD
TZOFFSETFROM:-0500
TZOFFSETTO:-0600
TZNAME:CST
DTSTART:20221106T070000
END:STANDARD
BEGIN:DAYLIGHT
TZOFFSETFROM:-0600
TZOFFSETTO:-0500
TZNAME:CDT
DTSTART:20230312T080000
END:DAYLIGHT
BEGIN:STANDARD
TZOFFSETFROM:-0500
TZOFFSETTO:-0600
TZNAME:CST
DTSTART:20231105T070000
END:STANDARD
END:VTIMEZONE
BEGIN:VEVENT
DTSTART;VALUE=DATE:20221202
DTEND;VALUE=DATE:20221203
DTSTAMP:20260423T045643
CREATED:20220819T140216Z
LAST-MODIFIED:20220829T183818Z
UID:10000195-1669939200-1670025599@vitallinks.com
SUMMARY:Quickshifts – Revolutionizing the Use of Sound in Sensorimotor Integrative Treatment - Live Webinar w/ Recording
DESCRIPTION:Recording Access Available!  \nThis one-day\, live online course (with recording access) will introduce participants to the therapeutic application of Quickshifts\, an auditory based intervention tool\, used to quickly shift states of alertness and set-up the nervous system for optimal success. Quickshifts are an effective tool that can be used across multiple environments\, which support immediate performance as well as long-last changes in a number of functional areas. This course will also feature case and video presentations to show practical clinical applications. \nTake an additional discount of $15 per participant for groups of 3 or more individuals enrolling simultaneously under the same web-order.  \nScroll down to Register\nLocation\nOnline with Recording Option* \nSchedule\nFull Agenda\nFriday\, December 2\, 2022\, 9:00am – 4:30pm Central STANDARD Time (CST)\nCheck-in begins at 8:30am CST\nTest begins at approx. 4:00pm CST \nLive Webinar Registration Closes:\nFriday\, December 2nd at 7:30am CST \nRecording Registration Closes:\nMonday\, December 5th at 5:00pm CST \nCan’t make it on December 2nd? A recording of the course will be available from December 6 to December 20\, 2022. Just register below and you’ll have the option to receive access to both the live course and the recording. If you plan to watch the recording\, you’ll still be eligible to receive CEU’s. \n\n		Recording Details\n		Recording Details\nThe course recording will be offered for a limited time\, and the registration deadline is Monday\, December 5th. The viewing window for the recording special begins on Tuesday\, December 6\, 2022 and expires on Tuesday\, December 20\, 2022 at 11:59pm CST. You may view the recording at your leisure during the viewing window — break it up or watch it all at once…it’s up to you! However\, access to the recording\, test and course materials will no longer be available after the noted time; please plan accordingly. \nHow do I access the recording?\nYou will receive an email on December 6 by 5:00pm CST to access the course recording and printable handouts. Your device must have access to an internet connection and the capability to stream YouTube videos. \nWill I receive a certificate?\nTo receive credit for viewing the course recording\, viewers are required to submit their test with a passing score (70% or higher) no later than Tuesday\, December 20th at 11:59pm CST.\nViewers can expect to receive a Certificate of Completion via email by Friday\, December 23rd.\n\nLevel\nIntroductory \nInstructors\nSheila M. Frick; OTR/L\nTracy Bjorling; OTD.\, OTR/L \nCourse Objectives\nUpon completion of this course\, participants will be able to: \n\n\n\nList clinically based observation and movement-based assessment tools that assist in assessing an individual’s bilateral motor-coordination\, state regulation and whole-brain processing\, and how they relate to functional difficulties of the individual.\nIdentify three movement activities that support vestibular\, proprioceptive\, auditory and visual functioning.\nMatch Quickshift albums to client’s clinical picture\, goals\, and functional outcomes.\n\n\n\n\nScroll down to “Tickets” to register\n\n		\n		Continuing Ed \n		\n \nVital Links is an AOTA approved provider of continuing education. Participants will receive 6.0 contact hours or 0.6 AOTA CEUs for this course. \nAOTA Classification Code: Client Factors\, Performance Skills & Intervention\nAOTA Target Audience: Occupational Therapy\nAOTA Completion Requirements: Live Webinar: Full Attendance\, Participation\, Test — Recording Special: View Full Recording\, Test \nThe assignment of AOTA CEUs does not imply endorsement of specific course content\, products\, or clinical procedures by AOTA.\n\n		\n\n		\n		Course Materials \n		\nRegistrants will receive an email within a week of the course containing instructions on how to access the live webinar and printable course materials\, such as\, the PowerPoint handouts. \n\nThe email address entered under “Attendee #” during online registration will be the address that receives the instructions email.\nPlease check your inbox and junk folder for the following email Subject: “Register on GoToTraining for your Vital Links Online Course\, Quickshifts”\n\nPlease Contact Us if you have any questions.\n\n		\n\n		\n		Device Compatibility \n		\nThere are basic device requirements for Vital Links webinars on Microsoft Teams platform. Not familiar with Microsoft Teams? \nView the Microsoft Support documents for how to ‘Join a meeting without a Teams account’:\nhttps://support.microsoft.com/en-us/office/join-a-meeting-without-a-teams-account-c6efc38f-4e03-4e79-b28f-e65a4c03950 It is each registrant’s responsibility to ensure his/her device is compatible with the noted platform and services. \nContact Us if you have questions regarding compatibility.\n\n		\n\n		\n		Recording Details \n		\nThe course recording will be offered for a limited time\, and the registration deadline is Monday\, December 5th. The viewing window for the recording special begins on Tuesday\, December 6\, 2022 and expires on Tuesday\, December 20\, 2022 at 11:59pm CST. You may view the recording at your leisure during the viewing window — break it up or watch it all at once…it’s up to you! However\, access to the recording\, test and course materials will no longer be available after the noted time; please plan accordingly. \nHow do I access the recording?\nYou will receive an email on December 6 by 5:00pm CST to access the course recording and printable handouts. Your device must have access to an internet connection and the capability to stream YouTube videos. \nWill I receive a certificate?\nTo receive credit for viewing the course recording\, viewers are required to submit their test with a passing score (70% or higher) no later than Tuesday\, December 20th at 11:59pm CST.\nViewers can expect to receive a Certificate of Completion via email by Friday\, December 23rd. \n\n		\n\n		\n		Accessibility \n		\nIn compliance with the Americans with Disabilities Act\, Vital Links will make every effort to honor requests for reasonable accommodations made by individuals with disabilities\, including but not limited to written transcripts\, multiple viewing attempts\, and increased amount of time to complete training activities. It is a priority for Vital Links to ensure participation in all courses and activities for all individuals. Vital Links is committed to ensuring non-discrimination and to resolving any complaints related to a disability in a prompt and equitable manner.\n\n		\n\n		\n		Cancellation \n		\nCancellations requesting a refund must be in writing and received by Vital Links two weeks prior to the course; refunds will not be granted after that date. Approved refunds will be issued after the final course date (minus $50 processing fee). Cancellation requests may transfer full credit towards another Vital Links course if notification is received in writing at least 7 business days prior to the start date. \nVital Links is not responsible for device compatibility issues\, and it is each registrant’s responsibility to ensure his/her device is compatible with the noted platform and services. Any difficulty with compatibility is not grounds for a refund after the live webinar session begins. \nVital Links reserves the right to cancel any course with due cause and refund in full.\n\n		\n\n		\n		Purchase Orders \n		\nIf you choose to register via Purchase Order\, please attach a scanned copy of your completed and signed form to your “shopping cart” during checkout. Otherwise\, you may fax the form to: 1-866-636-9720. Note: please add an administrative fee of $15.00 to each order submitted via Purchase Order. Registrations submitted via Purchase Order Payment will not be processed until the Purchase Order form is received by Vital Links.\n\n		\n*This is a Live course. Full Attendance during the hours of this webinar is recommended; however\, for those unable to attend the entire webinar\, a recording is available for a brief viewing period after the course concludes. See “Recording Details” button above. \n  \nNeed to contact us by phone? call: 608-270-5424\nPrintable Brochure
URL:https://vitallinks.com/event/qssg2022-12-02-web1d-06sftb-quickshifts/
LOCATION:Online – Live Webinar
CATEGORIES:Live Webinars,Quickshifts
END:VEVENT
BEGIN:VEVENT
DTSTART;VALUE=DATE:20221209
DTEND;VALUE=DATE:20221210
DTSTAMP:20260423T045643
CREATED:20221028T212000Z
LAST-MODIFIED:20230125T162509Z
UID:10000181-1670544000-1670630399@vitallinks.com
SUMMARY:Core Connections - Exploring the Core's Developmental Roots - Live Webinar w/ Recording
DESCRIPTION:Core Connections Case Preview: Supporting our clients from assessment through treatment into meaningful occupational engagement! \nRecording Access Available!  \nCore Concepts in Action Book – vitalsounds.com \nThis live\, online course (with recording access) will provide therapists with a clear description of musculoskeletal make-up of the “core” and will cover the research-based neurophysiological rationale for evaluating core development and function in individuals with sensory processing difficulties. Core function will be explored from its developmental roots in the unfolding of the primary movement patterns (innate reflex development). Two key patterns (Moro and Tonic Labyrinthine) and their connections to core development and self-regulation will be discussed. A specific play-based observation tool that identifies core movement challenges and assists in prioritizing treatment strategies will be presented and explored through movement labs. Along with assessment\, a variety of hands-on treatment strategies will be demonstrated through interactive\, online labs. Video case presentation will be used to show practical clinical applications. \nReceive the Gertie Ball and Power Up Ball for the special rate of $25 when you add the Therapy Ball Bundle to your course registration (S&H fees apply^). \nTake an additional discount of $15 per participant for groups of 3 or more individuals enrolling simultaneously under the same web-order. \nScroll down to Register\nLocation\nOnline with Recording Option* \nSchedule\nFull Agenda\nFriday\, December 9\, 2022\, 8:30am – 5:00pm Central Daylight Time (CST)\nCheck-in begins at 8:00am CST\nTest begins at approx. 4:30pm CST \nLive Webinar Registration Closes:\nFriday\, December 9th at 6:30am CST \nRecording Registration Closes:\nMonday\, December 12th at 5:00pm CST \nCan’t make it on December 9th? A recording of the course will be available from December 13th to January 3rd. Just register below and you’ll have the option to receive access to both the live course and the recording. If you plan to watch the recording\, you’ll still be eligible to receive CEU’s. \n\n		Recording Details\n		Recording Details\nThe course recording will be offered for a limited time\, and the registration deadline is December 12th. The viewing window for the recording special begins on Tuesday\, December 13th\, 2022 and expires on Tuesday\, January 3\, 2023 at 11:59pm CST. You may view the recording at your leisure during the viewing window — break it up or watch it all at once…it’s up to you! However\, access to the recording\, test and course materials will no longer be available after the noted time; please plan accordingly. \nHow do I access the recording?\nYou will receive an email on December 13th by 5:00pm CST to access the course recording and printable handouts. Your device must have access to an internet connection. \nWill I receive a certificate?\nTo receive credit for viewing the course recording\, viewers are required to submit their test with a passing score (70% or higher) no later than Tuesday\, January 3rd at 11:59pm CST.\nViewers can expect to receive a Certificate of Completion via email by Friday\, January 6th.\n\nLevel\nIntroductory \nInstructor\nSheila M. Frick; OTR/L \nCourse Objectives\nUpon completion of this course\, participants will be able to: \n\nList the anatomical components of the inner and outer core.\nIdentify the significance of vestibular visual and auditory input for core development.\nSelect three strategies that activate inner core for the purpose of stability and self-regulation.\nUnderline the importance of complete expression and integration of the Moro and Tonic Labyrinthine reflex for core development and self-regulation.\nRecognize the importance of respiratory patterns and their relationship to core activation.\n\n\nScroll down to “Tickets” to register\n\n		\n		Continuing Ed \n		\n \nVital Links is an AOTA Approved Provider of professional development. Approved Provider #3261. This Distance Learning – Interactive course is offered at 0.7 CEUs\, Introductory level\, Occupational Therapy Service Delivery & Foundational Knowledge. The assignment of AOTA CEUs does not imply endorsement of specific course content\, products\, or clinical procedures by AOTA. \n\n		\n\n		\n		Course Materials \n		\nEach participant is recommended to have a yoga mat/towel and gym ball (sized to allow you to sit at 90/90) available during the course to utilize during online labs. The instructor will demonstrate the use of the Gertie Ball and the Power Up Ball throughout the course. Though they are not required to attend the course; access to these therapy balls can provide participants a hands-on experience during online demonstrations. You can receive both therapy balls for the special rate of $25 when you add the Therapy Ball Bundle to your course registration (S&H fees apply^). \nRegistrants will receive an email within a week of the course containing instructions on how to access the webinar and printable course materials\, such as\, the PowerPoint handouts. \n\nThe email address entered under “Attendee #” during online registration will be the address that receives the instructions email.\nPlease check your inbox and junk folder for the following email Subject: “Course Instructions for your Vital Links Online Course\, Core Connections.”\n\nPlease Contact Us if you have any questions.\n\n		\n\n		\n		Device Compatibility \n		\nThere are basic device requirements for Vital Links webinars on Zoom. While you can join the session via a computer\, tablet\, or mobile device\, viewers may have an enhanced experience through the use of a computer. \nContact Us if you have questions regarding compatibility.\n\n		\n\n		\n		Recording Details \n		\nThe course recording will be offered for a limited time\, and the registration deadline is December 5th. The viewing window for the recording special begins on Monday\, December 6th\, 2021 and expires on Monday\, December 20\, 2021 at 11:59pm CST. You may view the recording at your leisure during the viewing window — break it up or watch it all at once…it’s up to you! However\, access to the recording\, test and course materials will no longer be available after the noted time; please plan accordingly. \nHow do I access the recording?\nYou will receive an email on December 6th by 5:00pm CST to access the course recording and printable handouts. Your device must have access to an internet connection and the capability to stream YouTube videos. \nWill I receive a certificate?\nTo receive credit for viewing the course recording\, viewers are required to submit their test with a passing score (70% or higher) no later than Monday\, December 20th at 11:59pm CST.\nViewers can expect to receive a Certificate of Completion via email by Monday\, December 27th. \n\n		\n\n		\n		Accessibility \n		\nIn compliance with the Americans with Disabilities Act\, Vital Links will make every effort to honor requests for reasonable accommodations made by individuals with disabilities\, including but not limited to written transcripts\, multiple viewing attempts\, and increased amount of time to complete training activities. It is a priority for Vital Links to ensure participation in all courses and activities for all individuals. Vital Links is committed to ensuring non-discrimination and to resolving any complaints related to a disability in a prompt and equitable manner.\n\n		\n\n		\n		Cancellation \n		\nCancellations requesting a refund must be in writing and received by Vital Links two weeks prior to the course; refunds will not be granted after that date. Approved refunds will be issued after the final course date (minus $50 processing fee). Cancellation requests may transfer full credit towards another Vital Links course if notification is received in writing at least 7 business days prior to the start date. \nVital Links is not responsible for device compatibility issues\, and it is each registrant’s responsibility to ensure his/her device is compatible with the noted platform and services. Any difficulty with compatibility is not grounds for a refund after the live webinar session begins. \nVital Links reserves the right to cancel any course with due cause and refund in full.\n\n		\n\n		\n		Purchase Orders \n		\nIf you choose to register via Purchase Order\, please attach a scanned copy of your completed and signed form to your “shopping cart” during checkout. Otherwise\, you may fax the form to: 1-866-636-9720. Note: please add an administrative fee of $15.00 to each order submitted via Purchase Order. Registrations submitted via Purchase Order Payment will not be processed until the Purchase Order form is received by Vital Links.\n\n		\n\n		\n		National & International Shipping \n		\nShipping and international shipping fees applies for therapy ball bundle shipped within and outside of the United States. Rates are as follows: \nUnited States – $8.95 (Therapy Ball Bundle) \nCanada – $35.43 \nHong Kong – $75.43 \nAll other international locations – $100.43 \nInternational Customs requires international recipients to pay applicable duties and taxes on each shipment entering their country. A brokerage fee is also charged by the courier to process and present the requisite customs paperwork to International Customs on the importer’s behalf. Customs fees are not included in the shipping fee paid at time of purchase. Please\, be aware that UPS will request payment of these charges at the time of delivery. You have the ability to call UPS ahead of time (1-800-742-5877) to pay these charges\, eliminating the need for payment on delivery. \n\n		\n*This is a Live course. Full Attendance during the hours of this webinar is recommended; however\, for those unable to attend the entire webinar\, a recording is available for a brief viewing period after the course concludes. See “Recording Details” button above. \n  \nNeed to contact us by phone? call: 608-270-5424\nPrintable Brochure
URL:https://vitallinks.com/event/core2022-12-09-web1d-07sf-core-connections/
LOCATION:Online – Live Webinar
CATEGORIES:Core Connections
END:VEVENT
END:VCALENDAR