BEGIN:VCALENDAR
VERSION:2.0
PRODID:-//Vital Links - ECPv6.15.17.1//NONSGML v1.0//EN
CALSCALE:GREGORIAN
METHOD:PUBLISH
X-WR-CALNAME:Vital Links
X-ORIGINAL-URL:https://vitallinks.com
X-WR-CALDESC:Events for Vital Links
REFRESH-INTERVAL;VALUE=DURATION:PT1H
X-Robots-Tag:noindex
X-PUBLISHED-TTL:PT1H
BEGIN:VTIMEZONE
TZID:America/Chicago
BEGIN:DAYLIGHT
TZOFFSETFROM:-0600
TZOFFSETTO:-0500
TZNAME:CDT
DTSTART:20220313T080000
END:DAYLIGHT
BEGIN:STANDARD
TZOFFSETFROM:-0500
TZOFFSETTO:-0600
TZNAME:CST
DTSTART:20221106T070000
END:STANDARD
BEGIN:DAYLIGHT
TZOFFSETFROM:-0600
TZOFFSETTO:-0500
TZNAME:CDT
DTSTART:20230312T080000
END:DAYLIGHT
BEGIN:STANDARD
TZOFFSETFROM:-0500
TZOFFSETTO:-0600
TZNAME:CST
DTSTART:20231105T070000
END:STANDARD
BEGIN:DAYLIGHT
TZOFFSETFROM:-0600
TZOFFSETTO:-0500
TZNAME:CDT
DTSTART:20240310T080000
END:DAYLIGHT
BEGIN:STANDARD
TZOFFSETFROM:-0500
TZOFFSETTO:-0600
TZNAME:CST
DTSTART:20241103T070000
END:STANDARD
END:VTIMEZONE
BEGIN:VEVENT
DTSTART;VALUE=DATE:20230303
DTEND;VALUE=DATE:20230304
DTSTAMP:20260421T072511
CREATED:20221219T185827Z
LAST-MODIFIED:20230320T134947Z
UID:10000375-1677801600-1677887999@vitallinks.com
SUMMARY:Embodied Sensation: Harnessing the Power of Interoception and Proprioception- Live w/ Recording
DESCRIPTION:Updated Course: Expanded Content for One-Day of Learning!\nRecording Access Available! \nProprioception and interoception are frequently discussed within the field of occupational therapy to describe one’s awareness of their body position relative to the world around them and internal signals. For individuals who experience difficulties with sensory modulation and sensory processing\, inadequate interoceptive and proprioceptive awareness may contribute to struggles with body awareness\, breath regulation\, adaptable states of arousal\, organized movement and praxis\, and regulation and awareness of homeostatic functions and affective emotion. Effective treatment strategies aim to modulate sensation\, and support proprioceptive and interoceptive balance within the context of meaningful occupational participation. \nDrawing from current science\, this course will explore the neurological and anatomical foundations for proprioception\, interoception\, and vestibular processing. Practical application and discussions will illuminate how these sensations play a key role in self-referencing and body mapping for enhanced sense of our physical and emotional self. Therapists will leave this course with a comprehensive understanding of these key therapeutic concepts\, along with a variety of practical and precise therapeutic activities that can be implemented across environments. \nScroll down to Register\nLocation\nOnline with Recording Option* \nSchedule\nFull Agenda\nFriday\, March 3\, 2023\, 9:00am – 4:45pm Central Standard Time (CST)\nCheck-in begins at 8:30am CST\nTest begins at approx. 4:15pm CST \nLive Webinar Registration Closes:\nFriday\, March 3rd at 7:30am CST \nRecording Registration Closes:\nTuesday\, March 7th at 10:00am CST \nCan’t make it on March 3rd? A recording of the course will be available from March 7th to March 21st. Just register below and you’ll have the option to receive access to both the live course and the recording. If you plan to watch the recording\, you’ll still be eligible to receive CEU’s. \n\n		Recording Details\n		Recording Details\nThe course recording will be offered for a limited time\, and the registration deadline is March 7 at 10:00am CST. The viewing window for the recording special begins on Tuesday\, March 7\, 2023 and expires on Tuesday\, March 21\, 2023 at 11:59pm CST. You may view the recording at your leisure during the viewing window — break it up or watch it all at once…it’s up to you! However\, access to the recording\, test and course materials will no longer be available after the noted time; please plan accordingly. \nHow do I access the recording?\nYou will receive an email on March 7th by 5:00pm CST to access the course recording and printable handouts. Your device must have access to an internet connection. \nWill I receive a certificate?\nTo receive credit for viewing the course recording\, viewers are required to submit their test with a passing score (70% or higher) no later than Tuesday\, March 21st at 11:59pm CST.\nViewers can expect to receive a Certificate of Completion via email by Friday\, March 24.\n\nLevel\nIntroductory \nInstructors\nSheila M. Frick; OTR/L \nCourse Objectives\nUpon completion of this course\, participants will be able to: \n\nDistinguish between interoception and proprioception and their unique contributions to establishing one’s sense of self from a sensory integrative foundation.\nDiscuss the interplay between proprioception\, interoception\, and vestibular processing for the purposes of self-sensing and self-regulation.\nIdentify inefficient respiratory patterns and their influence on arousal\, affect regulation\, and the capacity for one’s movement to serve as a regulator\nIdentify at least three different treatment activities designed to provide precise awareness and integration of vestibular/proprioception and interoception that can be utilized across environments.\n\n\nScroll down to “Tickets” to register\n\n		\n		Continuing Ed \n		\n \nVital Links is an AOTA Approved Provider of professional development. Course approval ID# 03904. This Distance Learning- Interactive and Distance Learning – Independent course is offered at 0.6 CEUs Introductory\, OT Service Delivery and Foundational Knowledge. AOTA does not endorse specific course content\, products\, or clinical procedures. \n\n		\n\n		\n		Target Audience \n		\nOccupational therapists\, physical therapists\, speech and language pathologists\,  and other interested allied health professionals \n\n		\n\n		\n		Completion Requirements \n		\nParticipants who complete the Distance Learning – Interactive course must attend and participate in the entire live course and complete the quiz with a passing score of 70% or higher. Participants who complete the Distance Learning – Independent course must view the entire recording and complete the quiz with a passing score of 70% or higher. \n\n		\n\n		\n		Course Materials \n		\nRegistrants will receive an email within a week of the course containing instructions on how to access the live webinar and printable course materials\, such as\, the PowerPoint handouts. \n\nThe email address entered under “Attendee #” during online registration will be the address that receives the instructions email.\nPlease check your inbox and junk folder for the following email Subject: “Register for your Vital Links Online Course\, Embodied Sensation”\n\nPlease Contact Us if you have any questions.\n\n		\n\n		\n		Device Compatibility \n		\nThere are basic device requirements for Vital Links webinars on Zoom. While you can join the session via a computer\, tablet\, or mobile device\, viewers may have an enhanced experience through the use of a computer. \nContact Us if you have questions regarding compatibili \n\n		\n\n		\n		Recording Details \n		\nThe course recording will be offered for a limited time\, and the registration deadline is March 7 at 10:00am CST. The viewing window for the recording special begins on Tuesday\, March 7\, 2023 and expires on Tuesday\, March 21\, 2023 at 11:59pm CST. You may view the recording at your leisure during the viewing window — break it up or watch it all at once…it’s up to you! However\, access to the recording\, test and course materials will no longer be available after the noted time; please plan accordingly. \nHow do I access the recording?\nYou will receive an email on March 7th by 5:00pm CST to access the course recording and printable handouts. Your device must have access to an internet connection. \nWill I receive a certificate?\nTo receive credit for viewing the course recording\, viewers are required to submit their test with a passing score (70% or higher) no later than Tuesday\, March 21st at 11:59pm CST.\nViewers can expect to receive a Certificate of Completion via email by Friday\, March 24.\n\n		\n\n		\n		Accessibility \n		\nIn compliance with the Americans with Disabilities Act\, Vital Links will make every effort to honor requests for reasonable accommodations made by individuals with disabilities\, including but not limited to written transcripts\, multiple viewing attempts\, and increased amount of time to complete training activities. It is a priority for Vital Links to ensure participation in all courses and activities for all individuals. Vital Links is committed to ensuring non-discrimination and to resolving any complaints related to a disability in a prompt and equitable manner.\n\n		\n\n		\n		Cancellation \n		\nCancellations requesting a refund must be in writing and received by Vital Links two weeks prior to the course; refunds will not be granted after that date. Approved refunds will be issued after the final course date (minus $50 processing fee). Cancellation requests may transfer full credit towards another Vital Links course if notification is received in writing at least 7 business days prior to the start date. \nVital Links is not responsible for device compatibility issues\, and it is each registrant’s responsibility to ensure his/her device is compatible with the noted platform and services. Any difficulty with compatibility is not grounds for a refund after the live webinar session begins. \nVital Links reserves the right to cancel any course with due cause and refund in full.\n\n		\n\n		\n		Purchase Orders \n		\nIf you choose to register via Purchase Order\, please attach a scanned copy of your completed and signed form to your “shopping cart” during checkout. Otherwise\, you may fax the form to: 1-866-636-9720. Note: please add an administrative fee of $15.00 to each order submitted via Purchase Order. Registrations submitted via Purchase Order Payment will not be processed until the Purchase Order form is received by Vital Links.\n\n		\n*This is a Live course. Full Attendance during the hours of this webinar is recommended; however\, for those unable to attend the entire webinar\, a recording is available for a brief viewing period after the course concludes. See “Recording Details” button above. \n  \nNeed to contact us by phone? call: 608-270-5424\nPrintable Brochure
URL:https://vitallinks.com/event/hpip2023-03-03-web1d-06sf-proprioception-interoception/
LOCATION:Online – Live Webinar
CATEGORIES:Live Webinars,New Courses
END:VEVENT
BEGIN:VEVENT
DTSTART;VALUE=DATE:20230312
DTEND;VALUE=DATE:20230314
DTSTAMP:20260421T072511
CREATED:20221219T201221Z
LAST-MODIFIED:20230320T201930Z
UID:10000377-1678579200-1678751999@vitallinks.com
SUMMARY:Therapeutic Listening – Listening with the Whole Body – Live Webinar
DESCRIPTION:Discounted Book option at Checkout \nIn this two-day\, initial training course\, participants will learn to use Therapeutic Listening® modulated audio selections to create individualized\, home-based programs for clients. You will also learn how to implement Therapeutic Listening strategies in conjunction with postural\, respiratory and sensory activities. This course will take participants from client assessment through treatment with a strong emphasis on practical application using multiple case-studies. Case-study video presentations will be used to illustrate points and show changes in individuals with listening and other sensory processing difficulties. Practitioners who have a background in sensory integration\, including therapists in schools\, hospitals and private clinics will find this webinar especially meaningful. \nWho Should Attend:\nOccupational therapists\, speech/language pathologists\, physical therapists\, psychologists\, physicians\, educators\, social workers\, mental health therapists\, and human services professionals. Graduating students or graduate students of the aforementioned fields are also welcome. \nCertification:\nParticipants will receive a Certification in Therapeutic Listening (Introductory). This course provides participants with the necessary background information to immediately begin incorporating Therapeutic Listening into their programs. The course does not include the cost of the Therapeutic Listening modulated music selections.   \nReceive the handbook\, Listening with the Whole Body: Clinical Concepts and Treatment Guidelines for Therapeutic Listening\, for the special rate of $49 when you add the handbook to your course registration. Discount applied at checkout (S&H fees apply^). Click here to view & add the book to your cart.  \nTake an additional discount of $20 per participant for groups of 3 or more individuals enrolling simultaneously under the same web-order. \nScroll down to Register\nLocation\nOnline* \nSchedule\nFull Agenda\nDay 1: Sunday\, March 12\, 2023\, 9:00am – 4:15pm Central DAYLIGHT Time\nDay 2: Monday\, March 13\, 2023\, 9:00am – 4:45pm CDT\nCheck-in begins at 8:30am CDT on day one & day two.\nTest begins at approx. 4:15pm CDT on day two. \nLevel\nIntroductory \nInstructor\nSheila M. Frick; OTR/L\nTracy Bjorling; OTD\, OTR/L \nCourse Objectives\nUpon completion of this course\, participants will be able to: \n\nIdentify the relationship between listening and sensory integration.\nRecognize individuals with sensory processing and listening difficulties who may respond well to Therapeutic Listening.\nSelect Therapeutic Listening programs that are adapted to meet specific needs of individual clients.\nRecognize the role of postural\, respiratory\, and sensory strategies that are part of the Therapeutic Listening program.\n\n\nScroll down to “Tickets” to register\n\n		\n		Continuing Ed \n		\n \nVital Links is an AOTA Approved Provider of professional development. Approved Provider #3261. This Distance Learning – Interactive course is offered at 1.25 CEUs\, Introductory level\, Occupational Therapy Service Delivery & Foundational Knowledge. The assignment of AOTA CEUs does not imply endorsement of specific course content\, products\, or clinical procedures by AOTA.\n\n		\n\n		\n		Target Audience \n		\nOccupational therapists\, physical therapists\, speech and language pathologists\, and other interested allied health professionals \n\n		\n\n		\n		Completion Requirements \n		\nCompletion Requirements: To receive a certificate of course completion\, participants must attend and participate in the entire course\, and complete a post-course quiz with a passing score of 70% or higher. \n\n		\n\n		\n		Course Materials \n		\nYou can receive the handbook\, Listening with the Whole Body: Clinical Concepts and Treatment Guidelines for Therapeutic Listening\, for the special rate of $49 when you add the handbook to your course registration (S&H fees apply^). \nRegistrants will receive an email within a week of the course containing instructions on how to access the webinar and printable course materials\, such as\, the PowerPoint handouts. \n\nThe email address entered under “Attendee #” during online registration will be the address that receives the instructions email.\nPlease check your inbox and junk folder for the following email Subject: “Course Instructions for your Vital Links Online Course\, Therapeutic Listening.”\n\nPlease Contact Us if you have any questions. \n\n		\n\n		\n		Device Compatibility \n		\nThere are basic device requirements for Vital Links webinars on Zoom. While you can join the session via a computer\, tablet\, or mobile device\, viewers may have an enhanced experience through the use of a computer. \nContact Us if you have questions regarding compatibility. \n\n		\n\n		\n		Accessibility \n		\nIn compliance with the Americans with Disabilities Act\, Vital Links will make every effort to honor requests for reasonable accommodations made by individuals with disabilities\, including but not limited to written transcripts\, multiple viewing attempts\, and increased amount of time to complete training activities. It is a priority for Vital Links to ensure participation in all courses and activities for all individuals. Vital Links is committed to ensuring non-discrimination and to resolving any complaints related to a disability in a prompt and equitable manner.\n\n		\n\n		\n		Cancellation \n		\nCancellations requesting a refund must be in writing and received by Vital Links two weeks prior to the course; refunds will not be granted after that date. Approved refunds will be issued after the final course date (minus $50 processing fee). Cancellation requests may transfer full credit towards another Vital Links course if notification is received in writing at least 7 business days prior to the start date. \nVital Links is not responsible for device compatibility issues\, and it is each registrant’s responsibility to ensure his/her device is compatible with the noted platform and services. Any difficulty with compatibility is not grounds for a refund after the live webinar session begins. \nVital Links reserves the right to cancel any course with due cause and refund in full.\n\n		\n\n		\n		Purchase Orders \n		\nIf you choose to register via Purchase Order\, please attach a scanned copy of your completed and signed form to your “shopping cart” during checkout. Otherwise\, you may fax the form to: 1-866-636-9720. Note: please add an administrative fee of $15.00 to each order submitted via Purchase Order. Registrations submitted via Purchase Order Payment will not be processed until the Purchase Order form is received by Vital Links.\n\n		\n\n		\n		National Shipping & International Shipping \n		\nShipping and international shipping fees applies for books shipped within and outside of the United States. Rates are as follows: \nUnited States – $6.95 (Listening with the Whole Body book) \nCanada – $35.43 \nHong Kong – $75.43 \nAll other international locations – $100.43 \nInternational Customs requires international recipients to pay applicable duties and taxes on each shipment entering their country. A brokerage fee is also charged by the courier to process and present the requisite customs paperwork to International Customs on the importer’s behalf. Customs fees are not included in the shipping fee paid at time of purchase. Please\, be aware that UPS will request payment of these charges at the time of delivery. You have the ability to call UPS ahead of time (1-800-742-5877) to pay these charges\, eliminating the need for payment on delivery.\n\n		\n*This is a Live course. Full Attendance during the hours of this webinar is expected. \n  \nNeed to contact us by phone? call: 608-270-5424\nPrintable Brochure
URL:https://vitallinks.com/event/lwwb2023-03-12-web2d-12-5sftb-listening-with-whole-body-2/
LOCATION:Online – Live Webinar
CATEGORIES:Therapeutic Listening
END:VEVENT
BEGIN:VEVENT
DTSTART;VALUE=DATE:20230331
DTEND;VALUE=DATE:20230402
DTSTAMP:20260421T072511
CREATED:20230125T174826Z
LAST-MODIFIED:20230309T044154Z
UID:10000379-1680220800-1680393599@vitallinks.com
SUMMARY:Building Blocks for Sensory Integration - Live Webinar
DESCRIPTION:http://https://youtu.be/667aGdP7Jjk \nVolitional control of movement is dependent upon a foundation of adequate sensory processing and ongoing interactions with the environment to ignite the fullest expression of the primary movement patterns.\nDiscounted Therapy Ball Bundle available from Vital Sounds \nThis two-day\, live online course provides therapists with an in-depth understanding of the developmental and neuro-physiological links between sensory integration and the basic primary movement patterns that provide the foundation (or building blocks) for sensory modulation and integration. Beginning with support of the primitive reflexes\, we will explore the development of posture and its relationship to gross and fine motor skills along with visual and auditory function. Demonstrations\, movement labs and video case examples will highlight treatment strategies that can be implemented with and without therapy equipment\, making them appropriate for all clinical settings. \nReceive the Gertie Ball and Power Up Ball from Vital Sounds for the special rate of 15% off when you register for the Building Blocks course (S&H fees apply^). Vital Sounds coupon will be provided in course registration receipt. \nTake an additional discount of $20 per participant for groups of 3 or more individuals enrolling simultaneously under the same web-order. \nScroll down to Register\nLocation\nOnline* \nSchedule\nFull Agenda\nDay 1: Friday\, March 31\, 2023\, 9:00am – 4:15pm Central DAYLIGHT Time (CDT)\nDay 2: Saturday\, April 1\, 2023\, 9:00am – 4:45pm CDT\nCheck-in begins at 8:30am CDT on day one & day two.\nTest begins at approx. 4:15pm CDT on day two. \nLevel\nIntroductory \nInstructor\nSheila M. Frick; OTR/L \nCourse Objectives\nUpon completion of this course\, participants will be able to: \n\nRecognize the link between reflex integration\, postural development\, sensory motor integration\, and behavioral challenges.\nIdentify primitive and postural reflex development; and its impact on daily function.\nChoose simple\, yet powerful\, strategies for integration across multiple environments.\n\n\nScroll down to “Tickets” to register\n\n		\n		Continuing Ed \n		\n \nVital Links is an AOTA Approved Provider of professional development. Approved Provider #3261. This Distance Learning – Interactive course is offered at 1.25 CEUs\, Introductory level\, Occupational Therapy Service Delivery & Foundational Knowledge. The assignment of AOTA CEUs does not imply endorsement of specific course content\, products\, or clinical procedures by AOTA. \n\n		\n\n		\n		Target Audience \n		\nOccupational therapists\, physical therapists\, speech and language pathologists\, and other interested allied health professionals \n\n		\n\n		\n		Completion Requirements \n		\nCompletion Requirements: To receive a certificate of course completion\, participants must attend and participate in the entire course\, and complete a post-course quiz with a passing score of 70% or higher. \n\n		\n\n		\n		Course Materials \n		\nEach participant is recommended to have a yoga mat/towel and gym ball (sized to allow you to sit at 90/90) available during the course to utilize during online labs. The instructors will demonstrate the use of the Gertie Ball and the Power Up Ball throughout the course. Though they are not required to attend the course; access to these therapy balls can provide participants a hands-on experience during online demonstrations. Receive the Gertie Ball and Power Up Ball from Vital Sounds for the special rate of 15% off when you register for the Building Blocks course (S&H fees apply^). Vital Sounds coupon will be provided in course registration receipt. \nRegistrants will receive an email within a week of the course containing instructions on how to access the webinar and printable course materials\, such as the PowerPoint handouts. \n\nThe email address entered under “Attendee #” during online registration will be the address that receives the instructions email.\nPlease check your inbox and junk folder for the following email Subject: “Course Instructions for your Vital Links Online Course\, Building Blocks.”\n\nPlease Contact Us if you have any questions.\n\n		\n\n		\n		Device Compatibility \n		\nThere are basic device requirements for Vital Links webinars on Zoom. While you can join the session via a computer\, tablet\, or mobile device\, viewers may have an enhanced experience through the use of a computer. \nContact Us if you have questions regarding compatibility.\n\n		\n\n		\n		Accessibility \n		\nIn compliance with the Americans with Disabilities Act\, Vital Links will make every effort to honor requests for reasonable accommodations made by individuals with disabilities\, including but not limited to written transcripts\, multiple viewing attempts\, and increased amount of time to complete training activities. It is a priority for Vital Links to ensure participation in all courses and activities for all individuals. Vital Links is committed to ensuring non-discrimination and to resolving any complaints related to a disability in a prompt and equitable manner.\n\n		\n\n		\n		Cancellation \n		\nCancellations requesting a refund must be in writing and received by Vital Links two weeks prior to the course; refunds will not be granted after that date. Approved refunds will be issued after the final course date (minus $50 processing fee). Cancellation requests may transfer full credit towards another Vital Links course if notification is received in writing at least 7 business days prior to the start date. \nVital Links is not responsible for device compatibility issues\, and it is each registrant’s responsibility to ensure his/her device is compatible with the noted platform and services. Any difficulty with compatibility is not grounds for a refund after the live webinar session begins. \nVital Links reserves the right to cancel any course with due cause and refund in full.\n\n		\n\n		\n		Purchase Orders \n		\nIf you choose to register via Purchase Order\, please attach a scanned copy of your completed and signed form to your “shopping cart” during checkout. Otherwise\, you may fax the form to: 1-866-636-9720. Note: please add an administrative fee of $15.00 to each order submitted via Purchase Order. Registrations submitted via Purchase Order Payment will not be processed until the Purchase Order form is received by Vital Links.\n\n		\n*This is a Live course. Full Attendance during the hours of this webinar is expected. \n  \nNeed to contact us by phone? call: 608-270-5424\nPrintable Brochure
URL:https://vitallinks.com/event/bblk2023-03-31-web2d-12-5sf-building-blocks/
LOCATION:Online – Live Webinar
CATEGORIES:Building Blocks,Live Webinars
END:VEVENT
END:VCALENDAR