BEGIN:VCALENDAR
VERSION:2.0
PRODID:-//Vital Links - ECPv6.15.17.1//NONSGML v1.0//EN
CALSCALE:GREGORIAN
METHOD:PUBLISH
X-WR-CALNAME:Vital Links
X-ORIGINAL-URL:https://vitallinks.com
X-WR-CALDESC:Events for Vital Links
REFRESH-INTERVAL;VALUE=DURATION:PT1H
X-Robots-Tag:noindex
X-PUBLISHED-TTL:PT1H
BEGIN:VTIMEZONE
TZID:America/New_York
BEGIN:DAYLIGHT
TZOFFSETFROM:-0500
TZOFFSETTO:-0400
TZNAME:EDT
DTSTART:20170312T070000
END:DAYLIGHT
BEGIN:STANDARD
TZOFFSETFROM:-0400
TZOFFSETTO:-0500
TZNAME:EST
DTSTART:20171105T060000
END:STANDARD
BEGIN:DAYLIGHT
TZOFFSETFROM:-0500
TZOFFSETTO:-0400
TZNAME:EDT
DTSTART:20180311T070000
END:DAYLIGHT
BEGIN:STANDARD
TZOFFSETFROM:-0400
TZOFFSETTO:-0500
TZNAME:EST
DTSTART:20181104T060000
END:STANDARD
BEGIN:DAYLIGHT
TZOFFSETFROM:-0500
TZOFFSETTO:-0400
TZNAME:EDT
DTSTART:20190310T070000
END:DAYLIGHT
BEGIN:STANDARD
TZOFFSETFROM:-0400
TZOFFSETTO:-0500
TZNAME:EST
DTSTART:20191103T060000
END:STANDARD
END:VTIMEZONE
BEGIN:VEVENT
DTSTART;VALUE=DATE:20180818
DTEND;VALUE=DATE:20180820
DTSTAMP:20260425T201815
CREATED:20180110T194940Z
LAST-MODIFIED:20180620T210336Z
UID:10000062-1534550400-1534723199@vitallinks.com
SUMMARY:Core Connections - Exploring the Core's Developmental Roots - Miami
DESCRIPTION:Core Concepts in Action Book \nSpots still available!\nThis two-day\, in-person workshop will provide therapists with a clear description of musculoskeletal make-up of the “core” and will cover the research-based neurophysiological rationale for evaluating core development and function in individuals with sensory processing difficulties. Core function will be explored from its developmental roots in the unfolding of the primary movement patterns (innate reflex development). Two key patterns (Moro and Tonic Labyrinthine) and their connections to core development and self-regulation will be discussed. A specific play-based observation tool that identifies core movement challenges and assists in prioritizing treatment strategies will be presented and explored through movement labs. Along with assessment\, a variety of hands-on treatment strategies will be demonstrated through interactive labs. Video case presentation will be used to show practical clinical applications. \nRegistration includes a Gertie Ball\, a Power Up Ball and a Pinky Ball. \nTake an additional discount of $25 per participant for groups of 3 or more individuals enrolling simultaneously under the same web-order. Discount applied at checkout. \nLocation\nBaptist Hospital of Miami\n8900 North Kendall Drive\n3rd Floor South Building – Main Auditorium\nMiami\, FL 33176 \nSchedule\n\n        \n            Full Agenda\n        \n    \nDay 1: Saturday\, August 18\, 2018\, 9:00am – 4:30pm EDT\nDay 2: Sunday\, August 19\, 2018\, 9:00am – 4:30pm EDT\nCheck-in begins at 8:30am EDT on day one & day two. \nLevel\nIntroductory \nInstructors\nSheila M. Frick; OTR/L \nCourse Objectives\nUpon completion of this course\, participants will be able to: \n\nList the anatomical components of the inner and outer core.\nIdentify the significance of vestibular visual and auditory input for core development.\nApply three strategies that activate inner core for the purpose of stability and self-regulation.\nExplain the importance of complete expression and integration of the Moro and Tonic Labyrinthine reflex for core development and self-regulation.\nDescribe the importance of respiratory patterns and their relationship to core activation.\n\n\nScroll down to Register.\n\n		\n		Continuing Ed \n		\n \nVital Links is an AOTA approved provider of continuing education. Participants are eligible to receive 12.0 contact hours or 1.2 AOTA CEUs for this course. \nAOTA Classification Code: Client Factors\, Performance Skills\, & Intervention\nAOTA Target Audience: Occupational Therapy\nAOTA Completion Requirements: Full Attendance & Participation \nThe assignment of AOTA CEUs does not imply endorsement of specific course content\, products\, or clinical procedures by AOTA. \n\nASHA: This course is offered for 1.2 ASHA CEUs (Introductory Level & Professional Area)\n\n		\n\n		\n		Course Materials \n		\nTherapy Ball Trio included with course \nEach participant is asked to bring a yoga mat and gym ball (fits you to sit at 90/90). Registration includes the Therapy Ball Trio\, which consists of one Gertie Ball\, one Power Up Ball and one Pinky Ball. The Therapy Ball Trio will be provided at the course. The items will be utilized during workshop demonstrations and labs. Please Contact Us if you have any questions.\n\n		\n\n		\n		Accessibility \n		\nIn compliance with the Americans with Disabilities Act\, Vital Links will make every effort to honor requests for reasonable accommodations made by individuals with disabilities\, including but not limited to written transcripts\, multiple viewing attempts\, and increased amount of time to complete training activities. It is a priority for Vital Links to ensure participation in all courses and activities for all individuals. Vital Links is committed to ensuring non-discrimination and to resolving any complaints related to a disability in a prompt and equitable manner.\n\n		\n\n		\n		Cancellation \n		\nCancellations requesting a full refund must be in writing and received by Vital Links two weeks prior to the course; refund will not be granted after that date. Approved refunds will be issued after the final course date (minus $50 processing fee). Cancellation requests may transfer full credit towards another Vital Links course if notification is received in writing at least 7 business days prior to the start date. \nVital Links reserves the right to cancel any course with due cause and refund in full. Registrant bears sole responsibility for transportation to course. Participants purchasing non-refund-able airfare tickets are encouraged to inquire as to course availability before final purchase. Weather or transportation difficulties are not the responsibility of Vital Links\, and failure of a chosen means of transportation is not grounds for registration fee refund when course is held.\n\n		\n\n		\n		Purchase Orders \n		\nIf you choose to register via Purchase Order\, please attach a scanned copy of your completed and signed form to your “shopping cart” during checkout. Otherwise\, you may fax the form to: 1-866-636-9720. Note: please add an administrative fee of $15.00 to each order submitted via Purchase Order. Registrations submitted via Purchase Order Payment will not be processed until the Purchase Order form is received by Vital Links.\n\n		\n  \nNeed to contact us by phone? call: 608-270-5424
URL:https://vitallinks.com/event/core2018-08-18-mia2d-12sf-core-connections/
LOCATION:Baptist Hospital of Miami\, 8900 North Kendall Drive\, Miami\, FL\, 33176\, United States
CATEGORIES:Core Connections,In-Person Courses
GEO:25.6830929;-80.3403287
X-APPLE-STRUCTURED-LOCATION;VALUE=URI;X-ADDRESS=Baptist Hospital of Miami 8900 North Kendall Drive Miami FL 33176 United States;X-APPLE-RADIUS=500;X-TITLE=8900 North Kendall Drive:geo:-80.3403287,25.6830929
END:VEVENT
END:VCALENDAR